BEGIN:VCALENDAR
VERSION:2.0
PRODID:Imitheme.com 
BEGIN:VEVENT
UID:20260423T102120512187415
DTSTAMP;TZID=UTC:2026-04-23 10:21:20
DTSTART;TZID=America/Los_Angeles:20260423T102120
DTEND;TZID=America/Los_Angeles:20260423T102120
SUMMARY:5th Annual MCREST Golf Outing
LOCATION:4575 County Line Rd
DESCRIPTION:Join Us on May 30th, 2026 for our Best Ball Scramble Fundraiser for MCREST Its time to gather your fellow Golfers and join us for fundraising at its finest. Register a team or individually. Registration includes: Continental Breakfast, Lunch at the Turn, Dinner w/ Cash Bar & Prizes. There will be the Longest Drive & Closest to the Pin @ $5.oo per person per event. As well as, opportunity to enter into Skins @ $20.00 per Team. Not interested in golfing? Join us for dinner beginning at 1:45pm until 3:30pm for a special price along with a cash bar provided by Camille\'s On The Green.  Golf check-in begins at 8am with Shotgun start at 9am. Must Register by May 16th, 2026 Multiple Payment Options Using PayPal or Venmo? Scan QR Code to complete your registration and to process payment. Paying by Check? Complete Registration Form Provided and Submit with your check. Registration Form
URL:https://stjohnsnewbaltimore.org/eventer/5th-annual-mcrest-golf-outing/
END:VEVENT
END:VCALENDAR
