BEGIN:VCALENDAR
VERSION:2.0
PRODID:Imitheme.com 
BEGIN:VEVENT
UID:20260423T1326341637876996
DTSTAMP;TZID=UTC:2026-04-23 13:26:34
DTSTART;TZID=America/Los_Angeles:20260423T132634
DTEND;TZID=America/Los_Angeles:20260423T132634
SUMMARY:MCREST Planning Meeting
LOCATION:
DESCRIPTION:Meeting after 10:15 am Service in the Fellowship Hall. Please Join us!
URL:https://stjohnsnewbaltimore.org/eventer/mcrest-planning-meeting/
END:VEVENT
END:VCALENDAR
