BEGIN:VCALENDAR
VERSION:2.0
PRODID:Imitheme.com 
BEGIN:VEVENT
UID:20260423T1024262105238480
DTSTAMP;TZID=UTC:2026-04-23 10:24:26
DTSTART;TZID=America/Los_Angeles:20260423T102426
DTEND;TZID=America/Los_Angeles:20260423T102426
SUMMARY:TGIF - Youth Hangout
LOCATION:
DESCRIPTION:Join the Excitement Be Part of the FUN!! Let\'s come together to enjoy an evening full of games, activities, music, and laughs. Come for the fun - stay for the memories!
URL:https://stjohnsnewbaltimore.org/eventer/tgif-youth-hangout/
END:VEVENT
END:VCALENDAR
